BEGIN:VCALENDAR
VERSION:2.0
PRODID:-// - ECPv6.15.20//NONSGML v1.0//EN
CALSCALE:GREGORIAN
METHOD:PUBLISH
X-ORIGINAL-URL:https://www.thedukesclub.org.uk
X-WR-CALDESC:Events for 
REFRESH-INTERVAL;VALUE=DURATION:PT1H
X-Robots-Tag:noindex
X-PUBLISHED-TTL:PT1H
BEGIN:VTIMEZONE
TZID:Europe/London
BEGIN:DAYLIGHT
TZOFFSETFROM:+0000
TZOFFSETTO:+0100
TZNAME:BST
DTSTART:20180325T010000
END:DAYLIGHT
BEGIN:STANDARD
TZOFFSETFROM:+0100
TZOFFSETTO:+0000
TZNAME:GMT
DTSTART:20181028T010000
END:STANDARD
BEGIN:DAYLIGHT
TZOFFSETFROM:+0000
TZOFFSETTO:+0100
TZNAME:BST
DTSTART:20190331T010000
END:DAYLIGHT
BEGIN:STANDARD
TZOFFSETFROM:+0100
TZOFFSETTO:+0000
TZNAME:GMT
DTSTART:20191027T010000
END:STANDARD
BEGIN:DAYLIGHT
TZOFFSETFROM:+0000
TZOFFSETTO:+0100
TZNAME:BST
DTSTART:20200329T010000
END:DAYLIGHT
BEGIN:STANDARD
TZOFFSETFROM:+0100
TZOFFSETTO:+0000
TZNAME:GMT
DTSTART:20201025T010000
END:STANDARD
END:VTIMEZONE
BEGIN:VEVENT
DTSTART;VALUE=DATE:20190119
DTEND;VALUE=DATE:20190120
DTSTAMP:20260422T081223
CREATED:20181127T105031Z
LAST-MODIFIED:20181127T105031Z
UID:1571-1547856000-1547942399@www.thedukesclub.org.uk
SUMMARY:Welsh FRCS VIVA General Surgery Revision Course
DESCRIPTION:*25% discount fee for Dukes’ members.  Please enter the discount code: member123 in Step 3 of the payment section\, in the comments box* \nAimed at Higher Surgical Trainees appearing for their General Surgery FRCS Section 2. \nThis will be an intensive 1 day course\, with the emphasis on simulating exam conditions in a formative environment. Each candidate will experience simulated VIVAs\, Clinical Stations and Academic Papers with immediate discussion and feedback. \nAll faculty members will hold FRCS or FRCA. We aim for delegate:faculty ratio of 2:1. \nVIVAs\n– General Surgery\n– Emergency General Surgery\n– Critical Care\n– Specialist Interest\n– Basic Sciences (specialist interest) \nClinicals\nEach candidate will be given short cases using clinical or radiological images instead of patients covering: \n– General Surgery\n– Specialist interest \nAcademic Papers\nEach candidate will be given the opportunity to undertake two stations on the academic paper to ensure adequate practice at paper appraisal \n– Paper 1 General Surgery\n– Paper 2 Specialist Interest \nFollow this link to register
URL:https://www.thedukesclub.org.uk/event/welsh-frcs-viva-general-surgery-revision-course/
CATEGORIES:Courses
END:VEVENT
BEGIN:VEVENT
DTSTART;VALUE=DATE:20190128
DTEND;VALUE=DATE:20190130
DTSTAMP:20260422T081223
CREATED:20190120T143851Z
LAST-MODIFIED:20190120T162229Z
UID:2037-1548633600-1548806399@www.thedukesclub.org.uk
SUMMARY:Advanced Cadaveric Trauma Surgery Course
DESCRIPTION:Course content Day 1\n•The Damage Control Philosophy\n•Left Anterolateral Thoractomy\n•Clamshell Thoracotomy\n•Repair of Atrial and Ventricular Injuries\n• Median Sternotomy\n• Control of vessels\n•Thoracic and Oesophageal Trauma\n•Radiology of Trauma\n•Approaches to the Hilum\, Pulmonary Injuries\, superior and posterior mediastinum.\n•Closure and drains\n•The Military Approach to Major Trauma\n•Abdominal Trauma: The International Experience Further information \nCourse content Day 2\n•Pre-peritoneal packing (pelvic trauma)\n•Supracoeliac aortic control\n•Splenectomy\,\n•Pringle manoeuvre\n•Liver mobilization/packing\n•Exposure of femoral\, Iliac\, Popliteal Vessels\n•Major Vascular Lower Body Injury\n•Kocherisation\, Pancreatic injury\n•RtoL Visceral Medial rotation/ IVC Repair\n•LtoR Visceral Medial rotation; renal repair and nephrectomy \nTrauma
URL:https://www.thedukesclub.org.uk/event/advanced-cadaveric-trauma-surgery-course/
CATEGORIES:Courses
END:VEVENT
END:VCALENDAR