BEGIN:VCALENDAR
VERSION:2.0
PRODID:-// - ECPv6.15.20//NONSGML v1.0//EN
CALSCALE:GREGORIAN
METHOD:PUBLISH
X-ORIGINAL-URL:https://www.thedukesclub.org.uk
X-WR-CALDESC:Events for 
REFRESH-INTERVAL;VALUE=DURATION:PT1H
X-Robots-Tag:noindex
X-PUBLISHED-TTL:PT1H
BEGIN:VTIMEZONE
TZID:Europe/London
BEGIN:DAYLIGHT
TZOFFSETFROM:+0000
TZOFFSETTO:+0100
TZNAME:BST
DTSTART:20230326T010000
END:DAYLIGHT
BEGIN:STANDARD
TZOFFSETFROM:+0100
TZOFFSETTO:+0000
TZNAME:GMT
DTSTART:20231029T010000
END:STANDARD
BEGIN:DAYLIGHT
TZOFFSETFROM:+0000
TZOFFSETTO:+0100
TZNAME:BST
DTSTART:20240331T010000
END:DAYLIGHT
BEGIN:STANDARD
TZOFFSETFROM:+0100
TZOFFSETTO:+0000
TZNAME:GMT
DTSTART:20241027T010000
END:STANDARD
BEGIN:DAYLIGHT
TZOFFSETFROM:+0000
TZOFFSETTO:+0100
TZNAME:BST
DTSTART:20250330T010000
END:DAYLIGHT
BEGIN:STANDARD
TZOFFSETFROM:+0100
TZOFFSETTO:+0000
TZNAME:GMT
DTSTART:20251026T010000
END:STANDARD
END:VTIMEZONE
BEGIN:VEVENT
DTSTART;VALUE=DATE:20241014
DTEND;VALUE=DATE:20241015
DTSTAMP:20260423T053221
CREATED:20240910T085708Z
LAST-MODIFIED:20240910T134627Z
UID:22081-1728864000-1728950399@www.thedukesclub.org.uk
SUMMARY:Cadaveric TME course
DESCRIPTION:A stepwise approach to minimally invasive Total Mesorectal Excision\n\n\n\n\n\n\n\n\n  \n\nMale pelvic anatomy\n 
URL:https://www.thedukesclub.org.uk/event/cadaveric-tme-course-2/
LOCATION:The Griffin Institute\, Northwick Park and St Mark’s Hospital\, Watford Rd\, Harrow\, HA1 3UJ
CATEGORIES:Courses
END:VEVENT
BEGIN:VEVENT
DTSTART;TZID=Europe/London:20241015T080000
DTEND;TZID=Europe/London:20241015T170000
DTSTAMP:20260423T053221
CREATED:20240910T085953Z
LAST-MODIFIED:20240910T133647Z
UID:22084-1728979200-1729011600@www.thedukesclub.org.uk
SUMMARY:Cadaveric Complete mesocolic excision course
DESCRIPTION:Right colon fascia  by  jordanfletcher  on Sketchfab \n \n\nLap-CME right hemicolectomy step-by-step using critical view concept\n \nRobotic right complete mesocolectomy with patient-specific 3D-modelling
URL:https://www.thedukesclub.org.uk/event/cadaveric-complete-mesocolic-excision-course/
LOCATION:The Griffin Institute\, Northwick Park and St Mark’s Hospital\, Watford Rd\, Harrow\, HA1 3UJ
CATEGORIES:Cadaveric simulation,Colorectal,Courses,Organised by The Dukes' Club,Surgery
END:VEVENT
BEGIN:VEVENT
DTSTART;TZID=Europe/London:20241016T080000
DTEND;TZID=Europe/London:20241016T170000
DTSTAMP:20260423T053221
CREATED:20240910T090313Z
LAST-MODIFIED:20240910T090313Z
UID:22086-1729065600-1729098000@www.thedukesclub.org.uk
SUMMARY:Abdominal wall reconstruction cadaveric course
DESCRIPTION:
URL:https://www.thedukesclub.org.uk/event/abdominal-wall-reconstruction-cadaveric-course/
LOCATION:The Griffin Institute\, Northwick Park and St Mark’s Hospital\, Watford Rd\, Harrow\, HA1 3UJ
CATEGORIES:Cadaveric simulation,Courses,Surgery
END:VEVENT
END:VCALENDAR