BEGIN:VCALENDAR
VERSION:2.0
PRODID:-// - ECPv6.15.20//NONSGML v1.0//EN
CALSCALE:GREGORIAN
METHOD:PUBLISH
X-ORIGINAL-URL:https://www.thedukesclub.org.uk
X-WR-CALDESC:Events for 
REFRESH-INTERVAL;VALUE=DURATION:PT1H
X-Robots-Tag:noindex
X-PUBLISHED-TTL:PT1H
BEGIN:VTIMEZONE
TZID:UTC
BEGIN:STANDARD
TZOFFSETFROM:+0000
TZOFFSETTO:+0000
TZNAME:UTC
DTSTART:20160101T000000
END:STANDARD
END:VTIMEZONE
BEGIN:VTIMEZONE
TZID:Europe/London
BEGIN:DAYLIGHT
TZOFFSETFROM:+0000
TZOFFSETTO:+0100
TZNAME:BST
DTSTART:20160327T010000
END:DAYLIGHT
BEGIN:STANDARD
TZOFFSETFROM:+0100
TZOFFSETTO:+0000
TZNAME:GMT
DTSTART:20161030T010000
END:STANDARD
BEGIN:DAYLIGHT
TZOFFSETFROM:+0000
TZOFFSETTO:+0100
TZNAME:BST
DTSTART:20170326T010000
END:DAYLIGHT
BEGIN:STANDARD
TZOFFSETFROM:+0100
TZOFFSETTO:+0000
TZNAME:GMT
DTSTART:20171029T010000
END:STANDARD
BEGIN:DAYLIGHT
TZOFFSETFROM:+0000
TZOFFSETTO:+0100
TZNAME:BST
DTSTART:20180325T010000
END:DAYLIGHT
BEGIN:STANDARD
TZOFFSETFROM:+0100
TZOFFSETTO:+0000
TZNAME:GMT
DTSTART:20181028T010000
END:STANDARD
END:VTIMEZONE
BEGIN:VEVENT
DTSTART;VALUE=DATE:20170907
DTEND;VALUE=DATE:20170909
DTSTAMP:20260421T183044
CREATED:20170727T160951Z
LAST-MODIFIED:20170911T162918Z
UID:278-1504742400-1504915199@www.thedukesclub.org.uk
SUMMARY:Oxford Transanal TME Course
DESCRIPTION:Transanal TME workshops with hands on cadaver lab. There are six places for Dukes’ Club members. \n 
URL:https://www.thedukesclub.org.uk/event/oxford-transanal-tme-course/
CATEGORIES:Colorectal,Courses,Surgery
END:VEVENT
BEGIN:VEVENT
DTSTART;VALUE=DATE:20170929
DTEND;VALUE=DATE:20170930
DTSTAMP:20260421T183044
CREATED:20170727T163049Z
LAST-MODIFIED:20170911T162918Z
UID:283-1506643200-1506729599@www.thedukesclub.org.uk
SUMMARY:Minimally Invasive Perianal Surgery Course
DESCRIPTION:The Dukes’ Club is delighted to announce our latest collaboration with Karl Storz and St Thomas’s Simulation and Interactive Learning Centre with a one-day course on the use of minimally invasive techniques in the management of perianal disease. \nFor further information please contact Charles Goudie.
URL:https://www.thedukesclub.org.uk/event/minimally-invasive-perianal-surgery-course/
CATEGORIES:Colorectal,Courses,Surgery
END:VEVENT
END:VCALENDAR