BEGIN:VCALENDAR
VERSION:2.0
PRODID:-// - ECPv6.15.20//NONSGML v1.0//EN
CALSCALE:GREGORIAN
METHOD:PUBLISH
X-ORIGINAL-URL:https://www.thedukesclub.org.uk
X-WR-CALDESC:Events for 
REFRESH-INTERVAL;VALUE=DURATION:PT1H
X-Robots-Tag:noindex
X-PUBLISHED-TTL:PT1H
BEGIN:VTIMEZONE
TZID:Europe/London
BEGIN:DAYLIGHT
TZOFFSETFROM:+0000
TZOFFSETTO:+0100
TZNAME:BST
DTSTART:20160327T010000
END:DAYLIGHT
BEGIN:STANDARD
TZOFFSETFROM:+0100
TZOFFSETTO:+0000
TZNAME:GMT
DTSTART:20161030T010000
END:STANDARD
BEGIN:DAYLIGHT
TZOFFSETFROM:+0000
TZOFFSETTO:+0100
TZNAME:BST
DTSTART:20170326T010000
END:DAYLIGHT
BEGIN:STANDARD
TZOFFSETFROM:+0100
TZOFFSETTO:+0000
TZNAME:GMT
DTSTART:20171029T010000
END:STANDARD
BEGIN:DAYLIGHT
TZOFFSETFROM:+0000
TZOFFSETTO:+0100
TZNAME:BST
DTSTART:20180325T010000
END:DAYLIGHT
BEGIN:STANDARD
TZOFFSETFROM:+0100
TZOFFSETTO:+0000
TZNAME:GMT
DTSTART:20181028T010000
END:STANDARD
END:VTIMEZONE
BEGIN:VEVENT
DTSTART;VALUE=DATE:20171110
DTEND;VALUE=DATE:20171111
DTSTAMP:20260421T153456
CREATED:20170911T113116Z
LAST-MODIFIED:20171129T173416Z
UID:650-1510272000-1510358399@www.thedukesclub.org.uk
SUMMARY:CJ Medical HALO Trilogy Live Surgical Workshop
DESCRIPTION:We are proud to promote the HALO course to Dukes’ Club members only. Dukes’ Club members are trainee members of the ACPGBI. Traditionally the course has only been open to consultants\, but we have secured places for trainees in these course. \nContact: magdalena@cjmedical.com
URL:https://www.thedukesclub.org.uk/event/cj-medical-halo-trilogy-live-surgical-workshop-2/
LOCATION:Poole Hospital\, Long fleet Road\, Poole\, BH15 2JB
CATEGORIES:Courses,Surgery
END:VEVENT
BEGIN:VEVENT
DTSTART;VALUE=DATE:20171116
DTEND;VALUE=DATE:20171117
DTSTAMP:20260421T153456
CREATED:20170911T121718Z
LAST-MODIFIED:20171129T173416Z
UID:657-1510790400-1510876799@www.thedukesclub.org.uk
SUMMARY:Lower GI Polypectomy Skills Course
DESCRIPTION:Newcastle Surgical Training Centre are holidng a Lower GI Polypectomy course (Cadaveric) in Newcastle. The course has been well-received\, providing the knowledge and skills to perform polypectomy also the skills to approach upper GI bleeds.
URL:https://www.thedukesclub.org.uk/event/lower-gi-polypectomy-skills-course/
LOCATION:Newcastle Surgical Training Centre\, Freeman Hospital\, Freeman Road\, High Heaton\, Newcastle upon Tyne\, NE7 7DN\, United Kingdom
CATEGORIES:Courses,Surgery
END:VEVENT
END:VCALENDAR