BEGIN:VCALENDAR
VERSION:2.0
PRODID:-// - ECPv6.15.20//NONSGML v1.0//EN
CALSCALE:GREGORIAN
METHOD:PUBLISH
X-ORIGINAL-URL:https://www.thedukesclub.org.uk
X-WR-CALDESC:Events for 
REFRESH-INTERVAL;VALUE=DURATION:PT1H
X-Robots-Tag:noindex
X-PUBLISHED-TTL:PT1H
BEGIN:VTIMEZONE
TZID:Europe/London
BEGIN:DAYLIGHT
TZOFFSETFROM:+0000
TZOFFSETTO:+0100
TZNAME:BST
DTSTART:20160327T010000
END:DAYLIGHT
BEGIN:STANDARD
TZOFFSETFROM:+0100
TZOFFSETTO:+0000
TZNAME:GMT
DTSTART:20161030T010000
END:STANDARD
BEGIN:DAYLIGHT
TZOFFSETFROM:+0000
TZOFFSETTO:+0100
TZNAME:BST
DTSTART:20170326T010000
END:DAYLIGHT
BEGIN:STANDARD
TZOFFSETFROM:+0100
TZOFFSETTO:+0000
TZNAME:GMT
DTSTART:20171029T010000
END:STANDARD
BEGIN:DAYLIGHT
TZOFFSETFROM:+0000
TZOFFSETTO:+0100
TZNAME:BST
DTSTART:20180325T010000
END:DAYLIGHT
BEGIN:STANDARD
TZOFFSETFROM:+0100
TZOFFSETTO:+0000
TZNAME:GMT
DTSTART:20181028T010000
END:STANDARD
END:VTIMEZONE
BEGIN:VEVENT
DTSTART;VALUE=DATE:20171207
DTEND;VALUE=DATE:20171208
DTSTAMP:20260421T134709
CREATED:20171129T125918Z
LAST-MODIFIED:20171129T173415Z
UID:768-1512604800-1512691199@www.thedukesclub.org.uk
SUMMARY:Laparoscopic Right/Left Hemicolectomy Course
DESCRIPTION:One-day course designed for trainees with colorectal interest or ST5+. The course will comprise of both video and live dissections but with an emphasis of practical sessions. \nTwo places are reserved exclusively for Dukes’ Members with a 20% discount which will be refunded after payment. \nCourse cost is £250.00. \nFor further information please contact c.el-sayed@nhs.net
URL:https://www.thedukesclub.org.uk/event/laparoscopic-rightleft-hemicolectomy-course/
LOCATION:University Hospital\, Coventry\, Clifford Bridge Road\, Coventry\, CV2 2DX\, United Kingdom
CATEGORIES:Colorectal,Courses,Surgery
END:VEVENT
BEGIN:VEVENT
DTSTART;VALUE=DATE:20171207
DTEND;VALUE=DATE:20171210
DTSTAMP:20260421T134709
CREATED:20170803T071041Z
LAST-MODIFIED:20171221T101034Z
UID:465-1512604800-1512863999@www.thedukesclub.org.uk
SUMMARY:5th Dilemmas & Debates in Colorectal Surgery
DESCRIPTION:We are delighted to invite you to attend the 5th Dilemmas & Debates in Colorectal Surgery conference which will once again be organized by The International University of Colon And Rectal Surgeons (ISUCRS) and Kings College London (KCL) in association with the French Research Group of Rectal Cancer Surgery (GRECCAR). \nIn true traditional fashion\, the 2017 conference will continue to have didactic and debate sessions addressing difficult situations\, controversies and problems in colorectal surgery with issues which will be attractive to a range of professionals om multiple disciplines. \nThere will also be number of workshops on Saturday 9th December which will be invaluable for surgical trainees and young colorectal specialist endeavouring to improve their knowledge and skill sets. Courses include: \n\nPelvic floor assessment: 3D US & HRM anophysiology\nComplex abdominal wall reconstruction workshop\nAdvanced laparoscopic dry-lab skills training\nHaemorrhoid and fistula workshop\n\nWe are also open to abstract submission of original research to be considered for the free paper session – ‘Six Of The Best Submitted Abstracts’ and video submissions for consideration for presentation in the ‘Live surgery & How I do it Session’.
URL:https://www.thedukesclub.org.uk/event/5th-dilemmas-debates-in-colorectal-surgery/
LOCATION:King’s College London\, Bush House\, 30 Aldwych\, London\, WC2R 2LS\, United Kingdom
CATEGORIES:Colorectal,Courses,Pelvic floor,Surgery
END:VEVENT
END:VCALENDAR