BEGIN:VCALENDAR
VERSION:2.0
PRODID:-// - ECPv6.15.20//NONSGML v1.0//EN
CALSCALE:GREGORIAN
METHOD:PUBLISH
X-ORIGINAL-URL:https://www.thedukesclub.org.uk
X-WR-CALDESC:Events for 
REFRESH-INTERVAL;VALUE=DURATION:PT1H
X-Robots-Tag:noindex
X-PUBLISHED-TTL:PT1H
BEGIN:VTIMEZONE
TZID:Europe/London
BEGIN:DAYLIGHT
TZOFFSETFROM:+0000
TZOFFSETTO:+0100
TZNAME:BST
DTSTART:20170326T010000
END:DAYLIGHT
BEGIN:STANDARD
TZOFFSETFROM:+0100
TZOFFSETTO:+0000
TZNAME:GMT
DTSTART:20171029T010000
END:STANDARD
BEGIN:DAYLIGHT
TZOFFSETFROM:+0000
TZOFFSETTO:+0100
TZNAME:BST
DTSTART:20180325T010000
END:DAYLIGHT
BEGIN:STANDARD
TZOFFSETFROM:+0100
TZOFFSETTO:+0000
TZNAME:GMT
DTSTART:20181028T010000
END:STANDARD
BEGIN:DAYLIGHT
TZOFFSETFROM:+0000
TZOFFSETTO:+0100
TZNAME:BST
DTSTART:20190331T010000
END:DAYLIGHT
BEGIN:STANDARD
TZOFFSETFROM:+0100
TZOFFSETTO:+0000
TZNAME:GMT
DTSTART:20191027T010000
END:STANDARD
END:VTIMEZONE
BEGIN:VEVENT
DTSTART;VALUE=DATE:20180306
DTEND;VALUE=DATE:20180307
DTSTAMP:20260421T084544
CREATED:20171129T123337Z
LAST-MODIFIED:20171129T173415Z
UID:756-1520294400-1520380799@www.thedukesclub.org.uk
SUMMARY:Laparoscopic Skills Course
DESCRIPTION:Laparoscopic course in Coventry for core trainees and junior registrars. This course involve the basics of laparoscopic surgery and port insertion\, appendicectomy\, cholecystectomy\, tissue handling\, suturing and dissection. \nFor more info please email: charlotte.elsayed@yahoo.co.uk
URL:https://www.thedukesclub.org.uk/event/laparoscopic-skills-course/
CATEGORIES:Courses,Surgery
END:VEVENT
BEGIN:VEVENT
DTSTART;VALUE=DATE:20180322
DTEND;VALUE=DATE:20180324
DTSTAMP:20260421T084544
CREATED:20171129T115440Z
LAST-MODIFIED:20171129T173415Z
UID:730-1521676800-1521849599@www.thedukesclub.org.uk
SUMMARY:Advanced Coloproctology Course
DESCRIPTION:Two-day course for senior trainees (ST7-8) with lectures\, presentations\, and vivas. Key topics will be relevant\, cutting edge and will include plenty of interactive discussion. \nDukes’ Club members with paid associate membership of ACPGBI are entitled to attend this course for free (once during their training). \nFor coupon code information email: adele@conventions-uk.co.uk
URL:https://www.thedukesclub.org.uk/event/advanced-coloproctology-course/
CATEGORIES:Courses,Surgery
END:VEVENT
BEGIN:VEVENT
DTSTART;TZID=Europe/London:20180326T080000
DTEND;TZID=Europe/London:20180327T170000
DTSTAMP:20260421T084544
CREATED:20171221T101702Z
LAST-MODIFIED:20171221T101702Z
UID:836-1522051200-1522170000@www.thedukesclub.org.uk
SUMMARY:2nd UK Colorectal Robotic Surgery Conference and Cadaveric Hands-on Dissection Course
DESCRIPTION:
URL:https://www.thedukesclub.org.uk/event/2nd-uk-colorectal-robotic-surgery-conference-and-cadaveric-hands-on-dissection-course/
LOCATION:Newcastle Surgical Training Centre\, Freeman Hospital\, Freeman Road\, High Heaton\, Newcastle upon Tyne\, NE7 7DN\, United Kingdom
CATEGORIES:Colorectal,Courses,Surgery
END:VEVENT
END:VCALENDAR