BEGIN:VCALENDAR
VERSION:2.0
PRODID:-// - ECPv6.15.20//NONSGML v1.0//EN
CALSCALE:GREGORIAN
METHOD:PUBLISH
X-ORIGINAL-URL:https://www.thedukesclub.org.uk
X-WR-CALDESC:Events for 
REFRESH-INTERVAL;VALUE=DURATION:PT1H
X-Robots-Tag:noindex
X-PUBLISHED-TTL:PT1H
BEGIN:VTIMEZONE
TZID:Europe/London
BEGIN:DAYLIGHT
TZOFFSETFROM:+0000
TZOFFSETTO:+0100
TZNAME:BST
DTSTART:20170326T010000
END:DAYLIGHT
BEGIN:STANDARD
TZOFFSETFROM:+0100
TZOFFSETTO:+0000
TZNAME:GMT
DTSTART:20171029T010000
END:STANDARD
BEGIN:DAYLIGHT
TZOFFSETFROM:+0000
TZOFFSETTO:+0100
TZNAME:BST
DTSTART:20180325T010000
END:DAYLIGHT
BEGIN:STANDARD
TZOFFSETFROM:+0100
TZOFFSETTO:+0000
TZNAME:GMT
DTSTART:20181028T010000
END:STANDARD
BEGIN:DAYLIGHT
TZOFFSETFROM:+0000
TZOFFSETTO:+0100
TZNAME:BST
DTSTART:20190331T010000
END:DAYLIGHT
BEGIN:STANDARD
TZOFFSETFROM:+0100
TZOFFSETTO:+0000
TZNAME:GMT
DTSTART:20191027T010000
END:STANDARD
END:VTIMEZONE
BEGIN:VEVENT
DTSTART;TZID=Europe/London:20180412T080000
DTEND;TZID=Europe/London:20180412T170000
DTSTAMP:20260421T071425
CREATED:20180412T195747Z
LAST-MODIFIED:20180412T195747Z
UID:1056-1523520000-1523552400@www.thedukesclub.org.uk
SUMMARY:Abdominal Trauma Cadaveric Course
DESCRIPTION:Amazing Cadaveric Trauma course: \nTutorials: \n\nGeneral Principles of Damage Control Laparotomy tutorial \nHaemorrhage Control tutorial\nPelvic fracture and bleeding tutorial Pelvic Binder Demonstration \n\nLab Work: \n\nLaparotomy and abdominal compartment packing \nAortic cross clamp \nExtra peritoneal pelvic packing \nBowel stapling / infection source control\nLiver packing\, and the Pringle Manoeuvre\nSplenectomy \nGastric injury / repair\nRight colon mobilisation \nDuodenal Kocherisation\nIVC bleeding and repair\nRenal trauma\, including nephrectomy \nGadgets and haemostatic adjuncts\nLaparostomy\n\nDate; 29 May 2018 \nVenue: West Midlands Surgical Training Centre\, Coventry \nCost: £200 \nTo Apply please register at: \nhttps://wmstc.co.uk/portfolio/abdotraumacourse/ \nThis abdominal trauma course is aimed at general and vascular surgical trainees at the ST5 – 8 level. \nCourse Director: Mr S Robertson MD FRCS
URL:https://www.thedukesclub.org.uk/event/abdominal-trauma-cadaveric-course/
LOCATION:West Midlands Surgical Training Centre\, University Hospital Coventry and Warwickshire\, Clifford Bridge Road\, Coventry\, CV2 2DX\, United Kingdom
CATEGORIES:Courses,Surgery
END:VEVENT
BEGIN:VEVENT
DTSTART;VALUE=DATE:20180420
DTEND;VALUE=DATE:20180421
DTSTAMP:20260421T071425
CREATED:20180130T230721Z
LAST-MODIFIED:20180311T210528Z
UID:952-1524182400-1524268799@www.thedukesclub.org.uk
SUMMARY:Cook's Abdominal Wall Reconstruction Course
DESCRIPTION:We are pleased to invite applications for the FREE Cook Abdominal Wall Reconstruction Course to be held as part of the weekend on Friday 20th April 2018. \nThere are 16 places available\, and we are keen to optimise the experience for those most likely to benefit. Therefore preference will be given to ST6+ trainees. Due to the expected high demand for places\, we are inviting applications including the following: \n\nStatement of 150 words indicating why you should be selected\n2-page CV\nAssociate ACPGBI (Dukes’) membership number.\n\nApplications should be forwarded to admin@thedukesclub.org.uk by the end of the working day on 31/03/2018. \nWe look forward to your applications and we will notify successful candidates in the near future following the deadline. Registration for the remainder of the educational weekend is expected as a condition of course attendance. Details of the registration will be available soon.
URL:https://www.thedukesclub.org.uk/event/cooks-abdominal-wall-reconstruction-course/
LOCATION:The Park Royal Hotel\, Warrington\, Stretton Road\, Stretton\, Warrington\, WA4 4NS\, United Kingdom
CATEGORIES:Courses,Surgery
END:VEVENT
BEGIN:VEVENT
DTSTART;VALUE=DATE:20180420
DTEND;VALUE=DATE:20180423
DTSTAMP:20260421T071425
CREATED:20171129T114153Z
LAST-MODIFIED:20180225T201651Z
UID:725-1524182400-1524441599@www.thedukesclub.org.uk
SUMMARY:The Dukes' Club Annual Educational Weekend
DESCRIPTION:Suitable for any trainee grade. Topics include benign proctology\, abdominal wall reconstruction\, laparoscopic skills and much more. \nFree\, including food and accommodation for Dukes’/ACPGBI trainee members \nFor registration details please follow the link. A completely refundable deposit is required to confirm a place in the course. \n\n\n\nDay\nEvents\n\n\n\n\nFriday 20 April 2018 (pm)\n\n\nCook Abdominal Wall Reconstruction course\nEthicon Laparoscopic Skills course\nInformal Dinner\n\n\n\n\nSaturday 21 April 2018\n\n\nLectures from internationally renowned faculty\nCourse dinner\n\n\n\n\nSunday 22 April 2018 (am)\n\n\nTHD Advances in Benign Proctology course\nFRCS viva practice\n\n\n\n\n\n 
URL:https://www.thedukesclub.org.uk/event/the-dukes-club-annual-educational-weekend/
CATEGORIES:Courses,Surgery
END:VEVENT
END:VCALENDAR