BEGIN:VCALENDAR
VERSION:2.0
PRODID:-// - ECPv6.15.20//NONSGML v1.0//EN
CALSCALE:GREGORIAN
METHOD:PUBLISH
X-ORIGINAL-URL:https://www.thedukesclub.org.uk
X-WR-CALDESC:Events for 
REFRESH-INTERVAL;VALUE=DURATION:PT1H
X-Robots-Tag:noindex
X-PUBLISHED-TTL:PT1H
BEGIN:VTIMEZONE
TZID:Europe/London
BEGIN:DAYLIGHT
TZOFFSETFROM:+0000
TZOFFSETTO:+0100
TZNAME:BST
DTSTART:20180325T010000
END:DAYLIGHT
BEGIN:STANDARD
TZOFFSETFROM:+0100
TZOFFSETTO:+0000
TZNAME:GMT
DTSTART:20181028T010000
END:STANDARD
BEGIN:DAYLIGHT
TZOFFSETFROM:+0000
TZOFFSETTO:+0100
TZNAME:BST
DTSTART:20190331T010000
END:DAYLIGHT
BEGIN:STANDARD
TZOFFSETFROM:+0100
TZOFFSETTO:+0000
TZNAME:GMT
DTSTART:20191027T010000
END:STANDARD
BEGIN:DAYLIGHT
TZOFFSETFROM:+0000
TZOFFSETTO:+0100
TZNAME:BST
DTSTART:20200329T010000
END:DAYLIGHT
BEGIN:STANDARD
TZOFFSETFROM:+0100
TZOFFSETTO:+0000
TZNAME:GMT
DTSTART:20201025T010000
END:STANDARD
END:VTIMEZONE
BEGIN:VEVENT
DTSTART;VALUE=DATE:20190831
DTEND;VALUE=DATE:20190901
DTSTAMP:20260420T043310
CREATED:20190801T064217Z
LAST-MODIFIED:20190801T065441Z
UID:3934-1567209600-1567295999@www.thedukesclub.org.uk
SUMMARY:Welsh FRCS Viva General Surgery Course
DESCRIPTION:This hugely popular course is returning for a second time following the pilot course in January 2019 and now endorsed by the Welsh Surgical Society. This cost of the course has now reduced significantly too. \nCourse outline: \nPairs of trainees will rotate through a series of stations over the course of the day. All faculty members will hold FRCS or FRCA. A delegate:faculty ratio of 2:1 is aimed at. Each viva or clinical station will be 30mins length. For the viva station each trainee will have 2 x 5mins vivas with 5 minutes for feedback/discussion within that station: \n\nGeneral Surgery viva\nEmergency general surgery viva\nCritical care viva\nSpecialist interest viva\nBasic sciences (specialist interest) viva\n\nFor the clinical stations each trainee will have 2 x 5mins ‘short case’ using clinical or\nradiological images instead of patients for the station with 5 minutes for\nfeedback/discussion within that station \n\nClinicals- general surgery\nClinicals- specialist interest\n\nFor the academic paper each trainee will be given 30 mins to read through the paper then\n15mins of questions on the paper. \nLunch and refreshments will be provided \nCost: £74.98
URL:https://www.thedukesclub.org.uk/event/welsh-frcs-viva-general-surgery-course/
LOCATION:National Imaging Academy Wales\, Pencoed\, Pencoed Business Park\, Pencoed\, CF35 5HY\, United Kingdom
CATEGORIES:Courses,Surgery
END:VEVENT
END:VCALENDAR