BEGIN:VCALENDAR
VERSION:2.0
PRODID:-// - ECPv6.15.20//NONSGML v1.0//EN
CALSCALE:GREGORIAN
METHOD:PUBLISH
X-ORIGINAL-URL:https://www.thedukesclub.org.uk
X-WR-CALDESC:Events for 
REFRESH-INTERVAL;VALUE=DURATION:PT1H
X-Robots-Tag:noindex
X-PUBLISHED-TTL:PT1H
BEGIN:VTIMEZONE
TZID:Europe/London
BEGIN:DAYLIGHT
TZOFFSETFROM:+0000
TZOFFSETTO:+0100
TZNAME:BST
DTSTART:20180325T010000
END:DAYLIGHT
BEGIN:STANDARD
TZOFFSETFROM:+0100
TZOFFSETTO:+0000
TZNAME:GMT
DTSTART:20181028T010000
END:STANDARD
BEGIN:DAYLIGHT
TZOFFSETFROM:+0000
TZOFFSETTO:+0100
TZNAME:BST
DTSTART:20190331T010000
END:DAYLIGHT
BEGIN:STANDARD
TZOFFSETFROM:+0100
TZOFFSETTO:+0000
TZNAME:GMT
DTSTART:20191027T010000
END:STANDARD
BEGIN:DAYLIGHT
TZOFFSETFROM:+0000
TZOFFSETTO:+0100
TZNAME:BST
DTSTART:20200329T010000
END:DAYLIGHT
BEGIN:STANDARD
TZOFFSETFROM:+0100
TZOFFSETTO:+0000
TZNAME:GMT
DTSTART:20201025T010000
END:STANDARD
END:VTIMEZONE
BEGIN:VEVENT
DTSTART;VALUE=DATE:20190930
DTEND;VALUE=DATE:20191002
DTSTAMP:20260420T012157
CREATED:20190508T080841Z
LAST-MODIFIED:20190508T080841Z
UID:2650-1569801600-1569974399@www.thedukesclub.org.uk
SUMMARY:Upper Gastrointestinal Cancer Cadaveric Course
DESCRIPTION:Suitable for senior trainees\, this is an intensive two day course with an expert faculty. \nA series of didactic lectures and edited videos provides step by step tuition for the use of minimally invasive techniques in the resection of upper gastrointestinal cancers. Followed by intensive hands on surgical dissection using fresh frozen cadavers includes: laparoscopic gastric mobilisation\, thorascopic oesophagostomy open cervical exploration and anastomosis\, the use of hand ports and laparoscopic subtotal gastrectomy.
URL:https://www.thedukesclub.org.uk/event/upper-gastrointestinal-cancer-cadaveric-course/
LOCATION:Newcastle Surgical Training Centre\, Freeman Hospital\, Freeman Road\, High Heaton\, Newcastle upon Tyne\, NE7 7DN\, United Kingdom
CATEGORIES:Courses,Surgery
END:VEVENT
BEGIN:VEVENT
DTSTART;VALUE=DATE:20191001
DTEND;VALUE=DATE:20191002
DTSTAMP:20260420T012157
CREATED:20190929T113921Z
LAST-MODIFIED:20190929T114244Z
UID:4231-1569888000-1569974399@www.thedukesclub.org.uk
SUMMARY:An introduction to robotic colorectal cancer resection
DESCRIPTION:A one day small group observational course including live operating and talks covering the current evidence\, theatre set up/positioning/docking\, the technique and the pitfalls of robotic colorectal cancer resection.
URL:https://www.thedukesclub.org.uk/event/an-introduction-to-robotic-colorectal-cancer-resection/
LOCATION:St Mark’s Academic Institute\, Harrow\, Avery Jones Education Centre\, Acton Lane\, London\, NW10 7NS\, United Kingdom
CATEGORIES:Colorectal,Courses,Surgery
END:VEVENT
BEGIN:VEVENT
DTSTART;VALUE=DATE:20191002
DTEND;VALUE=DATE:20191005
DTSTAMP:20260420T012158
CREATED:20190610T084938Z
LAST-MODIFIED:20190801T063519Z
UID:3684-1569974400-1570233599@www.thedukesclub.org.uk
SUMMARY:Rectal Prolapse Surgical Management Cadaveric Course
DESCRIPTION:ST7 to ST8 with an interest in pelvic floor dysfunction \n \nThe course is designed for hands-on practice on Thiel cadavers. Each sessions will be preceded by talks and video presentations followed by cadaveric practical session and demonstration. \nThis will cover the curriculum that The Pelvic Floor Society developed for those with a special interest in pelvic floor disorders (available on their website) as the courses link together as modules. The other two courses are: \n\nFaecal Incontinence Course\, Cardiff\, 5/6 March 2020\nPelvic Floor MDT Course\, Poole\, 16/17 January 2020 (date to be confirmed)\n\nAnyone can apply to each course but a number of funded places will be awarded to TPFS members. Keep an eye on the website and TPFS members newsletters. \n 
URL:https://www.thedukesclub.org.uk/event/rectal-prolapse-surgical-management-cadaveric-course/
LOCATION:Dundee Institute for Healthcare Simulation\, University of Dundee Surgical Skills Centre\, Dundee\, DD1 9SY\, United Kingdom
CATEGORIES:Courses,Pelvic floor,Surgery
ORGANIZER;CN="Dundee Institute for Healthcare Simulation":MAILTO:cscbookings@dundee.ac.uk
END:VEVENT
BEGIN:VEVENT
DTSTART;VALUE=DATE:20191007
DTEND;VALUE=DATE:20191008
DTSTAMP:20260420T012158
CREATED:20190610T083039Z
LAST-MODIFIED:20190610T083039Z
UID:3679-1570406400-1570492799@www.thedukesclub.org.uk
SUMMARY:Gastrointestinal Anastomosis Workshop
DESCRIPTION:Suitable for FY2 – ST2 trainees who have successfully completed a RCS Basic Surgical Skills course. \n \nThis one day workshop provides exposure to the theoretical principles and practical techniques of gastrointestinal anastomosis. It gives an opportunity to perform a variety of surgical procedures on tissue models with modern anastomotic technologies under the guidance of Consultant Surgeons\, with a high trainer to trainee ratio. It then places these techniques within the context of surgical practice and identifies clinical situations where a deeper knowledge of these relevant aspects leads to improved peri-operative care.
URL:https://www.thedukesclub.org.uk/event/gastrointestinal-anastomosis-workshop/
LOCATION:The ICENI Centre\, Colchester\, Colchester Hospital\, Colchester\, CO4 5JL
CATEGORIES:Courses,Surgery
ORGANIZER;CN="The ICENI Centre":MAILTO:iceni@colchesterhospital.nhs.uk
END:VEVENT
BEGIN:VEVENT
DTSTART;VALUE=DATE:20191008
DTEND;VALUE=DATE:20191010
DTSTAMP:20260420T012158
CREATED:20190929T105749Z
LAST-MODIFIED:20190929T105943Z
UID:4222-1570492800-1570665599@www.thedukesclub.org.uk
SUMMARY:Transanal Total Mesorectal Excision
DESCRIPTION:Two-day masterclass for a maximum of 10 delegates with cadaveric simulation. One trainer and two delegates per cadaver. \n \nAreas covered include: \n\nPatient selection\nTheatre set-up\nOperative techniques\nControversies\n\nCourse fee includes one nights accommodation and a course dinner for the first day of the course.
URL:https://www.thedukesclub.org.uk/event/transanal-total-mesorectal-excision/
LOCATION:Anglia Ruskin University\, Chelmsford\, Chelmsford Campus\, Bishop Hall Lane\, Chelmsford\, CM1 1SQ CB1 1PT\, United Kingdom
CATEGORIES:Colorectal,Courses,Surgery
END:VEVENT
BEGIN:VEVENT
DTSTART;VALUE=DATE:20191031
DTEND;VALUE=DATE:20191102
DTSTAMP:20260420T012158
CREATED:20190929T114131Z
LAST-MODIFIED:20190929T114131Z
UID:4233-1572480000-1572652799@www.thedukesclub.org.uk
SUMMARY:Emergency and Elective Basic Coloproctology Course
DESCRIPTION:Two day basic coloproctology course for the management of emergency & elective coloproctological conditions.
URL:https://www.thedukesclub.org.uk/event/emergency-and-elective-basic-coloproctology-course/
LOCATION:St Mark’s Academic Institute\, Harrow\, Avery Jones Education Centre\, Acton Lane\, London\, NW10 7NS\, United Kingdom
CATEGORIES:Colorectal,Courses,Surgery
END:VEVENT
END:VCALENDAR