BEGIN:VCALENDAR
VERSION:2.0
PRODID:-// - ECPv6.15.20//NONSGML v1.0//EN
CALSCALE:GREGORIAN
METHOD:PUBLISH
X-ORIGINAL-URL:https://www.thedukesclub.org.uk
X-WR-CALDESC:Events for 
REFRESH-INTERVAL;VALUE=DURATION:PT1H
X-Robots-Tag:noindex
X-PUBLISHED-TTL:PT1H
BEGIN:VTIMEZONE
TZID:Europe/London
BEGIN:DAYLIGHT
TZOFFSETFROM:+0000
TZOFFSETTO:+0100
TZNAME:BST
DTSTART:20190331T010000
END:DAYLIGHT
BEGIN:STANDARD
TZOFFSETFROM:+0100
TZOFFSETTO:+0000
TZNAME:GMT
DTSTART:20191027T010000
END:STANDARD
BEGIN:DAYLIGHT
TZOFFSETFROM:+0000
TZOFFSETTO:+0100
TZNAME:BST
DTSTART:20200329T010000
END:DAYLIGHT
BEGIN:STANDARD
TZOFFSETFROM:+0100
TZOFFSETTO:+0000
TZNAME:GMT
DTSTART:20201025T010000
END:STANDARD
BEGIN:DAYLIGHT
TZOFFSETFROM:+0000
TZOFFSETTO:+0100
TZNAME:BST
DTSTART:20210328T010000
END:DAYLIGHT
BEGIN:STANDARD
TZOFFSETFROM:+0100
TZOFFSETTO:+0000
TZNAME:GMT
DTSTART:20211031T010000
END:STANDARD
END:VTIMEZONE
BEGIN:VEVENT
DTSTART;VALUE=DATE:20200227
DTEND;VALUE=DATE:20200229
DTSTAMP:20260419T183143
CREATED:20200123T140214Z
LAST-MODIFIED:20200130T083023Z
UID:5085-1582761600-1582934399@www.thedukesclub.org.uk
SUMMARY:Laparoscopic Cadaveric Colorectal Surgery Skills Course
DESCRIPTION:This inaugural two-day cadaveric course will focus on index colorectal procedures and is aimed at colorectal trainees ST5-ST8. It is free to trainee ACPGBI/ Dukes’ Club members. There is a refundable deposit. \n \nLectures\, live demonstrations and practical sessions will be included. Procedures to be covered include: \n\nLaparoscopic right hemicolectomy\nSplenic flexure mobilisation\nLaparoscopic sigmoid colectomy\nLaparoscopic anterior resection\nAbdominoperineal resection\nLIFT/THD procedure\nColonic stenting\n\nThere is a £200 refundable deposit.
URL:https://www.thedukesclub.org.uk/event/laparoscopic-cadaveric-colorectal-surgery-skills-course-2020/
LOCATION:Newcastle Surgical Training Centre\, Freeman Hospital\, Freeman Road\, High Heaton\, Newcastle upon Tyne\, NE7 7DN\, United Kingdom
CATEGORIES:Courses,Surgery
END:VEVENT
END:VCALENDAR