BEGIN:VCALENDAR
VERSION:2.0
PRODID:-// - ECPv6.15.20//NONSGML v1.0//EN
CALSCALE:GREGORIAN
METHOD:PUBLISH
X-ORIGINAL-URL:https://www.thedukesclub.org.uk
X-WR-CALDESC:Events for 
REFRESH-INTERVAL;VALUE=DURATION:PT1H
X-Robots-Tag:noindex
X-PUBLISHED-TTL:PT1H
BEGIN:VTIMEZONE
TZID:Europe/London
BEGIN:DAYLIGHT
TZOFFSETFROM:+0000
TZOFFSETTO:+0100
TZNAME:BST
DTSTART:20190331T010000
END:DAYLIGHT
BEGIN:STANDARD
TZOFFSETFROM:+0100
TZOFFSETTO:+0000
TZNAME:GMT
DTSTART:20191027T010000
END:STANDARD
BEGIN:DAYLIGHT
TZOFFSETFROM:+0000
TZOFFSETTO:+0100
TZNAME:BST
DTSTART:20200329T010000
END:DAYLIGHT
BEGIN:STANDARD
TZOFFSETFROM:+0100
TZOFFSETTO:+0000
TZNAME:GMT
DTSTART:20201025T010000
END:STANDARD
BEGIN:DAYLIGHT
TZOFFSETFROM:+0000
TZOFFSETTO:+0100
TZNAME:BST
DTSTART:20210328T010000
END:DAYLIGHT
BEGIN:STANDARD
TZOFFSETFROM:+0100
TZOFFSETTO:+0000
TZNAME:GMT
DTSTART:20211031T010000
END:STANDARD
END:VTIMEZONE
BEGIN:VEVENT
DTSTART;VALUE=DATE:20200313
DTEND;VALUE=DATE:20200314
DTSTAMP:20260419T165056
CREATED:20191223T124613Z
LAST-MODIFIED:20200312T144853Z
UID:4714-1584057600-1584143999@www.thedukesclub.org.uk
SUMMARY:IBD Newcastle
DESCRIPTION:URGENT NOTICE: This conference has been postponed until 2021 in order to support national and global efforts to contain the Coronavirus COVID-19 outbreak. \n \nThis conference will bring together the national and international Inflammatory Bowel Disease surgery community. \nThe event encompasses a full day of talks and networking. The morning session will focus on radiology\, pathology\, pregnancy and endoscopic innovations in IBD surgery\, with a high level IBD discussion MDT. \nThis will be followed by sessions on innovation\, abdominal wall reconstruction\, national directions in UK IBD surgery\, cutting edge IBD surgery techniques and UK/European expert keynotes. \nIBD Newcastle is linked to the Emma Stuart Memorial Symposium which takes place the day before also in Newcastle. Delegates attending IBD Newcastle can register their interest in attending this conference day when registering.
URL:https://www.thedukesclub.org.uk/event/ibd-newcastle/
LOCATION:Crowne Plaza Newcastle\, Hawthorn Square\, Forth Street\, Newcastle\, NE1 3SA\, United Kingdom
CATEGORIES:Courses,Surgery
END:VEVENT
BEGIN:VEVENT
DTSTART;VALUE=DATE:20200326
DTEND;VALUE=DATE:20200328
DTSTAMP:20260419T165056
CREATED:20190508T075913Z
LAST-MODIFIED:20200312T144942Z
UID:2646-1585180800-1585353599@www.thedukesclub.org.uk
SUMMARY:Advanced Coloproctology Course 2020
DESCRIPTION:URGENT NOTICE: This course has been deferred until March 2020 in order to support national and global efforts to contain the Coronavirus COVID-19 outbreak. \n \nDevised for colorectal trainees and consultants\, this 2 day course will be packed with lectures\, presentations\, case studies\, debates and viva voce. \nKey topics will be relevant to practice today\, cutting edge and include much discussion and interaction. \nMembers of The Dukes’ Club with two years paid associate membership of ACPGBI are entitled to one free course place with a coupon code. Trainees £200. \nEnquiries: adele@conventions-uk.co.uk
URL:https://www.thedukesclub.org.uk/event/advanced-coloproctology-course-2020/
LOCATION:Crowne Plaza Sheffield\, Royal Victoria\, Victoria Station Road\, Sheffield\, S4 7YE\, United Kingdom
CATEGORIES:Colorectal,Courses,Surgery
END:VEVENT
END:VCALENDAR