BEGIN:VCALENDAR
VERSION:2.0
PRODID:-// - ECPv6.15.20//NONSGML v1.0//EN
CALSCALE:GREGORIAN
METHOD:PUBLISH
X-ORIGINAL-URL:https://www.thedukesclub.org.uk
X-WR-CALDESC:Events for 
REFRESH-INTERVAL;VALUE=DURATION:PT1H
X-Robots-Tag:noindex
X-PUBLISHED-TTL:PT1H
BEGIN:VTIMEZONE
TZID:Europe/London
BEGIN:DAYLIGHT
TZOFFSETFROM:+0000
TZOFFSETTO:+0100
TZNAME:BST
DTSTART:20160327T010000
END:DAYLIGHT
BEGIN:STANDARD
TZOFFSETFROM:+0100
TZOFFSETTO:+0000
TZNAME:GMT
DTSTART:20161030T010000
END:STANDARD
BEGIN:DAYLIGHT
TZOFFSETFROM:+0000
TZOFFSETTO:+0100
TZNAME:BST
DTSTART:20170326T010000
END:DAYLIGHT
BEGIN:STANDARD
TZOFFSETFROM:+0100
TZOFFSETTO:+0000
TZNAME:GMT
DTSTART:20171029T010000
END:STANDARD
BEGIN:DAYLIGHT
TZOFFSETFROM:+0000
TZOFFSETTO:+0100
TZNAME:BST
DTSTART:20180325T010000
END:DAYLIGHT
BEGIN:STANDARD
TZOFFSETFROM:+0100
TZOFFSETTO:+0000
TZNAME:GMT
DTSTART:20181028T010000
END:STANDARD
END:VTIMEZONE
BEGIN:VEVENT
DTSTART;VALUE=DATE:20171004
DTEND;VALUE=DATE:20171005
DTSTAMP:20260420T122638
CREATED:20170911T112611Z
LAST-MODIFIED:20171129T173416Z
UID:645-1507075200-1507161599@www.thedukesclub.org.uk
SUMMARY:CJ Medical HALO Trilogy Live Surgical Workshop
DESCRIPTION:We are proud to promote the HALO course to Dukes’ Club members only. Dukes’ Club members are trainee members of the ACPGBI. Traditionally the course has only been open to consultants\, but we have secured places for trainees. \nContact: magdalena@cjmedical.com
URL:https://www.thedukesclub.org.uk/event/cj-medical-halo-trilogy-live-surgical-workshop/
LOCATION:Royal Berkshire Hospital\, Craven Road\, Reading\, RG1 5AN\, United Kingdom
CATEGORIES:Courses,Surgery
END:VEVENT
BEGIN:VEVENT
DTSTART;VALUE=DATE:20171005
DTEND;VALUE=DATE:20171006
DTSTAMP:20260420T122638
CREATED:20170911T111603Z
LAST-MODIFIED:20171129T173416Z
UID:641-1507161600-1507247999@www.thedukesclub.org.uk
SUMMARY:Introduction to Anterior Component Separation (Porcine Course)
DESCRIPTION:One of our sponsors\, Cook Medical\, are holding a 1-day course\, fully funded for ST6+\, on anterior component separation with porcine models. \nThis will take place in Coventry.
URL:https://www.thedukesclub.org.uk/event/introduction-to-anterior-component-separation-porcine-course/
CATEGORIES:Surgery
END:VEVENT
BEGIN:VEVENT
DTSTART;VALUE=DATE:20171013
DTEND;VALUE=DATE:20171014
DTSTAMP:20260420T122638
CREATED:20170911T111803Z
LAST-MODIFIED:20171129T173416Z
UID:643-1507852800-1507939199@www.thedukesclub.org.uk
SUMMARY:Introduction to Anterior Component Separation (Porcine Course)
DESCRIPTION:One of our sponsor’s Cook Medical are holding a 1-day course\, fully funded for ST6+\, on anterior component separation with porcine models. This will take place in the Wirral.
URL:https://www.thedukesclub.org.uk/event/introduction-to-anterior-component-separation-porcine-course-2/
CATEGORIES:Courses,Surgery
END:VEVENT
END:VCALENDAR